Package: topconfects Version: 1.22.0 Command: rm -rf topconfects.buildbin-libdir && mkdir topconfects.buildbin-libdir && F:\biocbuild\bbs-3.20-bioc\R\bin\R.exe CMD INSTALL --build --library=topconfects.buildbin-libdir topconfects_1.22.0.tar.gz StartedAt: 2025-02-04 09:41:52 -0500 (Tue, 04 Feb 2025) EndedAt: 2025-02-04 09:42:10 -0500 (Tue, 04 Feb 2025) EllapsedTime: 18.2 seconds RetCode: 0 Status: OK PackageFile: topconfects_1.22.0.zip PackageFileSize: 998.9 KiB