Package: topconfects Version: 1.22.0 Command: /home/biocbuild/R/R/bin/R CMD build --keep-empty-dirs --no-resave-data topconfects StartedAt: 2025-02-04 03:35:05 -0000 (Tue, 04 Feb 2025) EndedAt: 2025-02-04 03:38:15 -0000 (Tue, 04 Feb 2025) EllapsedTime: 189.3 seconds RetCode: 0 Status: OK PackageFile: topconfects_1.22.0.tar.gz PackageFileSize: 1.459 MiB