Package: topconfects Version: 1.22.0 Command: /home/biocbuild/R/R/bin/R CMD INSTALL topconfects StartedAt: 2025-02-03 20:28:41 -0000 (Mon, 03 Feb 2025) EndedAt: 2025-02-03 20:28:47 -0000 (Mon, 03 Feb 2025) EllapsedTime: 5.8 seconds RetCode: 0 Status: OK