Package: topdownr Version: 1.28.0 Command: /Library/Frameworks/R.framework/Resources/bin/R CMD build --keep-empty-dirs --no-resave-data topdownr StartedAt: 2025-02-04 09:50:00 -0500 (Tue, 04 Feb 2025) EndedAt: 2025-02-04 09:51:52 -0500 (Tue, 04 Feb 2025) EllapsedTime: 112.1 seconds RetCode: 0 Status: OK PackageFile: topdownr_1.28.0.tar.gz PackageFileSize: 1.535 MiB