Package: topdownr Version: 1.28.0 Command: /Library/Frameworks/R.framework/Resources/bin/R CMD check --install=check:topdownr.install-out.txt --library=/Library/Frameworks/R.framework/Resources/library --no-vignettes --timings topdownr_1.28.0.tar.gz StartedAt: 2025-02-05 13:05:49 -0500 (Wed, 05 Feb 2025) EndedAt: 2025-02-05 13:12:10 -0500 (Wed, 05 Feb 2025) EllapsedTime: 380.3 seconds RetCode: 0 Status: OK CheckDir: topdownr.Rcheck Warnings: 0