Package: topdownr Version: 1.28.0 Command: /home/biocbuild/R/R/bin/R CMD build --keep-empty-dirs --no-resave-data topdownr StartedAt: 2025-02-04 03:35:11 -0000 (Tue, 04 Feb 2025) EndedAt: 2025-02-04 03:37:22 -0000 (Tue, 04 Feb 2025) EllapsedTime: 131.2 seconds RetCode: 0 Status: OK PackageFile: topdownr_1.28.0.tar.gz PackageFileSize: 1.413 MiB