Package: topdownr Version: 1.28.0 Command: /home/biocbuild/R/R/bin/R CMD check --install=check:topdownr.install-out.txt --library=/home/biocbuild/R/R/site-library --no-vignettes --timings topdownr_1.28.0.tar.gz StartedAt: 2025-02-04 11:48:10 -0000 (Tue, 04 Feb 2025) EndedAt: 2025-02-04 11:55:16 -0000 (Tue, 04 Feb 2025) EllapsedTime: 425.7 seconds RetCode: 0 Status: OK CheckDir: topdownr.Rcheck Warnings: 0