Package: topdownr Version: 1.28.0 Command: /home/biocbuild/R/R/bin/R CMD INSTALL topdownr StartedAt: 2025-02-03 21:00:21 -0000 (Mon, 03 Feb 2025) EndedAt: 2025-02-03 21:01:16 -0000 (Mon, 03 Feb 2025) EllapsedTime: 54.2 seconds RetCode: 0 Status: OK