Package: tpSVG Version: 1.2.0 Command: /Library/Frameworks/R.framework/Resources/bin/R CMD build --keep-empty-dirs --no-resave-data tpSVG StartedAt: 2025-02-03 22:58:10 -0500 (Mon, 03 Feb 2025) EndedAt: 2025-02-03 23:00:54 -0500 (Mon, 03 Feb 2025) EllapsedTime: 163.9 seconds RetCode: 0 Status: OK PackageFile: tpSVG_1.2.0.tar.gz PackageFileSize: 1.237 MiB