Package: tpSVG
Version: 1.2.0
Command: /Library/Frameworks/R.framework/Resources/bin/R CMD check --install=check:tpSVG.install-out.txt --library=/Library/Frameworks/R.framework/Resources/library --no-vignettes --timings tpSVG_1.2.0.tar.gz
StartedAt: 2025-02-18 10:42:10 -0500 (Tue, 18 Feb 2025)
EndedAt: 2025-02-18 10:49:23 -0500 (Tue, 18 Feb 2025)
EllapsedTime: 433.1 seconds
RetCode: 0
Status: OK
CheckDir: tpSVG.Rcheck
Warnings: 0