Package: tpSVG Version: 1.2.0 Command: /home/biocbuild/bbs-3.20-bioc/R/bin/R CMD check --install=check:tpSVG.install-out.txt --library=/home/biocbuild/bbs-3.20-bioc/R/site-library --timings tpSVG_1.2.0.tar.gz StartedAt: 2025-02-04 03:16:32 -0500 (Tue, 04 Feb 2025) EndedAt: 2025-02-04 03:21:22 -0500 (Tue, 04 Feb 2025) EllapsedTime: 289.3 seconds RetCode: 0 Status: OK CheckDir: tpSVG.Rcheck Warnings: 0