Package: tpSVG Version: 1.2.0 Command: /home/biocbuild/bbs-3.20-bioc/R/bin/R CMD INSTALL tpSVG StartedAt: 2025-02-03 16:10:02 -0500 (Mon, 03 Feb 2025) EndedAt: 2025-02-03 16:10:28 -0500 (Mon, 03 Feb 2025) EllapsedTime: 26.5 seconds RetCode: 0 Status: OK