Package: tpSVG Version: 1.2.0 Command: rm -rf tpSVG.buildbin-libdir && mkdir tpSVG.buildbin-libdir && F:\biocbuild\bbs-3.20-bioc\R\bin\R.exe CMD INSTALL --build --library=tpSVG.buildbin-libdir tpSVG_1.2.0.tar.gz StartedAt: 2025-01-31 09:48:20 -0500 (Fri, 31 Jan 2025) EndedAt: 2025-01-31 09:48:53 -0500 (Fri, 31 Jan 2025) EllapsedTime: 33.0 seconds RetCode: 0 Status: OK PackageFile: tpSVG_1.2.0.zip PackageFileSize: 1.245 MiB