Package: tpSVG Version: 1.2.0 Command: chmod a+r tpSVG -R && F:\biocbuild\bbs-3.20-bioc\R\bin\R.exe CMD build --keep-empty-dirs --no-resave-data tpSVG StartedAt: 2025-01-30 22:21:28 -0500 (Thu, 30 Jan 2025) EndedAt: 2025-01-30 22:23:22 -0500 (Thu, 30 Jan 2025) EllapsedTime: 114.4 seconds RetCode: 0 Status: OK PackageFile: tpSVG_1.2.0.tar.gz PackageFileSize: 1.237 MiB