Package: tpSVG Version: 1.2.0 Command: F:\biocbuild\bbs-3.20-bioc\R\bin\R.exe CMD check --no-multiarch --install=check:tpSVG.install-out.txt --library=F:\biocbuild\bbs-3.20-bioc\R\library --no-vignettes --timings tpSVG_1.2.0.tar.gz StartedAt: 2025-01-31 07:20:13 -0500 (Fri, 31 Jan 2025) EndedAt: 2025-01-31 07:25:28 -0500 (Fri, 31 Jan 2025) EllapsedTime: 315.0 seconds RetCode: 0 Status: OK CheckDir: tpSVG.Rcheck Warnings: 0