Package: trackViewer Version: 1.42.0 Command: /Library/Frameworks/R.framework/Resources/bin/R CMD check --install=check:trackViewer.install-out.txt --library=/Library/Frameworks/R.framework/Resources/library --no-vignettes --timings trackViewer_1.42.0.tar.gz StartedAt: 2025-02-05 13:10:57 -0500 (Wed, 05 Feb 2025) EndedAt: 2025-02-05 13:20:31 -0500 (Wed, 05 Feb 2025) EllapsedTime: 574.1 seconds RetCode: 0 Status: OK CheckDir: trackViewer.Rcheck Warnings: 0