Package: trackViewer Version: 1.42.0 Command: rm -rf trackViewer.buildbin-libdir && mkdir trackViewer.buildbin-libdir && /Users/biocbuild/BBS/utils/build-universal.sh trackViewer_1.42.0.tar.gz /Library/Frameworks/R.framework/Resources/bin/R trackViewer.buildbin-libdir StartedAt: 2025-01-31 13:52:16 -0500 (Fri, 31 Jan 2025) EndedAt: 2025-01-31 13:54:31 -0500 (Fri, 31 Jan 2025) EllapsedTime: 134.8 seconds RetCode: 0 Status: OK PackageFile: trackViewer_1.42.0.tgz PackageFileSize: 12.8 MiB