Package: trackViewer Version: 1.42.0 Command: /home/biocbuild/bbs-3.20-bioc/R/bin/R CMD build --keep-empty-dirs --no-resave-data --md5 trackViewer StartedAt: 2025-02-03 19:40:29 -0500 (Mon, 03 Feb 2025) EndedAt: 2025-02-03 19:50:46 -0500 (Mon, 03 Feb 2025) EllapsedTime: 616.2 seconds RetCode: 0 Status: OK PackageFile: trackViewer_1.42.0.tar.gz PackageFileSize: 10.22 MiB