Package: trackViewer Version: 1.42.0 Command: /home/biocbuild/bbs-3.20-bioc/R/bin/R CMD check --install=check:trackViewer.install-out.txt --library=/home/biocbuild/bbs-3.20-bioc/R/site-library --timings trackViewer_1.42.0.tar.gz StartedAt: 2025-02-04 03:16:37 -0500 (Tue, 04 Feb 2025) EndedAt: 2025-02-04 03:35:26 -0500 (Tue, 04 Feb 2025) EllapsedTime: 1128.2 seconds RetCode: 0 Status: OK CheckDir: trackViewer.Rcheck Warnings: 0