Package: trackViewer Version: 1.42.0 Command: /home/biocbuild/R/R/bin/R CMD INSTALL trackViewer StartedAt: 2025-02-03 20:59:47 -0000 (Mon, 03 Feb 2025) EndedAt: 2025-02-03 21:01:03 -0000 (Mon, 03 Feb 2025) EllapsedTime: 75.7 seconds RetCode: 0 Status: OK