Package: tracktables Version: 1.40.0 Command: rm -rf tracktables.buildbin-libdir && mkdir tracktables.buildbin-libdir && /Users/biocbuild/BBS/utils/build-universal.sh tracktables_1.40.0.tar.gz /Library/Frameworks/R.framework/Resources/bin/R tracktables.buildbin-libdir StartedAt: 2025-02-05 18:09:04 -0500 (Wed, 05 Feb 2025) EndedAt: 2025-02-05 18:09:22 -0500 (Wed, 05 Feb 2025) EllapsedTime: 18.0 seconds RetCode: 0 Status: OK PackageFile: tracktables_1.40.0.tgz PackageFileSize: 403.3 KiB