Package: tracktables Version: 1.40.0 Command: /Library/Frameworks/R.framework/Resources/bin/R CMD build --keep-empty-dirs --no-resave-data tracktables StartedAt: 2025-02-04 09:52:42 -0500 (Tue, 04 Feb 2025) EndedAt: 2025-02-04 09:53:15 -0500 (Tue, 04 Feb 2025) EllapsedTime: 32.9 seconds RetCode: 0 Status: OK PackageFile: tracktables_1.40.0.tar.gz PackageFileSize: 356 KiB