Package: tracktables Version: 1.40.0 Command: /home/biocbuild/bbs-3.20-bioc/R/bin/R CMD build --keep-empty-dirs --no-resave-data --md5 tracktables StartedAt: 2025-02-03 19:40:24 -0500 (Mon, 03 Feb 2025) EndedAt: 2025-02-03 19:40:45 -0500 (Mon, 03 Feb 2025) EllapsedTime: 21.0 seconds RetCode: 0 Status: OK PackageFile: tracktables_1.40.0.tar.gz PackageFileSize: 357.2 KiB