Package: tracktables Version: 1.40.0 Command: /home/biocbuild/bbs-3.20-bioc/R/bin/R CMD check --install=check:tracktables.install-out.txt --library=/home/biocbuild/bbs-3.20-bioc/R/site-library --timings tracktables_1.40.0.tar.gz StartedAt: 2025-02-04 03:16:35 -0500 (Tue, 04 Feb 2025) EndedAt: 2025-02-04 03:18:10 -0500 (Tue, 04 Feb 2025) EllapsedTime: 95.1 seconds RetCode: 0 Status: WARNINGS CheckDir: tracktables.Rcheck Warnings: 1