Package: tracktables Version: 1.40.0 Command: rm -rf tracktables.buildbin-libdir && mkdir tracktables.buildbin-libdir && F:\biocbuild\bbs-3.20-bioc\R\bin\R.exe CMD INSTALL --build --library=tracktables.buildbin-libdir tracktables_1.40.0.tar.gz StartedAt: 2025-02-04 09:42:08 -0500 (Tue, 04 Feb 2025) EndedAt: 2025-02-04 09:42:34 -0500 (Tue, 04 Feb 2025) EllapsedTime: 26.4 seconds RetCode: 0 Status: OK PackageFile: tracktables_1.40.0.zip PackageFileSize: 408.9 KiB