Package: tracktables Version: 1.40.0 Command: chmod a+r tracktables -R && F:\biocbuild\bbs-3.20-bioc\R\bin\R.exe CMD build --keep-empty-dirs --no-resave-data tracktables StartedAt: 2025-02-03 22:38:54 -0500 (Mon, 03 Feb 2025) EndedAt: 2025-02-03 22:39:26 -0500 (Mon, 03 Feb 2025) EllapsedTime: 32.9 seconds RetCode: 0 Status: OK PackageFile: tracktables_1.40.0.tar.gz PackageFileSize: 357.2 KiB