Package: tracktables Version: 1.40.0 Command: F:\biocbuild\bbs-3.20-bioc\R\bin\R.exe CMD check --no-multiarch --install=check:tracktables.install-out.txt --library=F:\biocbuild\bbs-3.20-bioc\R\library --no-vignettes --timings tracktables_1.40.0.tar.gz StartedAt: 2025-02-04 07:09:34 -0500 (Tue, 04 Feb 2025) EndedAt: 2025-02-04 07:11:30 -0500 (Tue, 04 Feb 2025) EllapsedTime: 115.3 seconds RetCode: 0 Status: WARNINGS CheckDir: tracktables.Rcheck Warnings: 1