Package: tracktables Version: 1.40.0 Command: /home/biocbuild/R/R/bin/R CMD check --install=check:tracktables.install-out.txt --library=/home/biocbuild/R/R/site-library --no-vignettes --timings tracktables_1.40.0.tar.gz StartedAt: 2025-02-04 11:48:35 -0000 (Tue, 04 Feb 2025) EndedAt: 2025-02-04 11:50:25 -0000 (Tue, 04 Feb 2025) EllapsedTime: 110.1 seconds RetCode: 0 Status: WARNINGS CheckDir: tracktables.Rcheck Warnings: 1