Package: tracktables Version: 1.40.0 Command: /home/biocbuild/R/R/bin/R CMD INSTALL tracktables StartedAt: 2025-02-03 20:46:25 -0000 (Mon, 03 Feb 2025) EndedAt: 2025-02-03 20:46:44 -0000 (Mon, 03 Feb 2025) EllapsedTime: 19.3 seconds RetCode: 0 Status: OK