Package: tradeSeq Version: 1.20.0 Command: rm -rf tradeSeq.buildbin-libdir && mkdir tradeSeq.buildbin-libdir && /Users/biocbuild/BBS/utils/build-universal.sh tradeSeq_1.20.0.tar.gz /Library/Frameworks/R.framework/Resources/bin/R tradeSeq.buildbin-libdir StartedAt: 2025-02-05 18:09:08 -0500 (Wed, 05 Feb 2025) EndedAt: 2025-02-05 18:09:48 -0500 (Wed, 05 Feb 2025) EllapsedTime: 39.6 seconds RetCode: 0 Status: OK PackageFile: tradeSeq_1.20.0.tgz PackageFileSize: 5.531 MiB