Package: tradeSeq Version: 1.19.0 Command: C:\Users\biocbuild\bbs-3.20-bioc\R\bin\R.exe CMD INSTALL tradeSeq StartedAt: 2024-07-15 15:30:55 -0400 (Mon, 15 Jul 2024) EndedAt: 2024-07-15 15:31:38 -0400 (Mon, 15 Jul 2024) EllapsedTime: 42.7 seconds RetCode: 0 Status: OK