Package: tradeSeq Version: 1.20.0 Command: rm -rf tradeSeq.buildbin-libdir && mkdir tradeSeq.buildbin-libdir && F:\biocbuild\bbs-3.20-bioc\R\bin\R.exe CMD INSTALL --build --library=tradeSeq.buildbin-libdir tradeSeq_1.20.0.tar.gz StartedAt: 2025-02-04 09:42:13 -0500 (Tue, 04 Feb 2025) EndedAt: 2025-02-04 09:43:04 -0500 (Tue, 04 Feb 2025) EllapsedTime: 50.8 seconds RetCode: 0 Status: OK PackageFile: tradeSeq_1.20.0.zip PackageFileSize: 2.462 MiB