Package: tradeSeq Version: 1.20.0 Command: F:\biocbuild\bbs-3.20-bioc\R\bin\R.exe CMD check --no-multiarch --install=check:tradeSeq.install-out.txt --library=F:\biocbuild\bbs-3.20-bioc\R\library --no-vignettes --timings tradeSeq_1.20.0.tar.gz StartedAt: 2025-02-04 07:10:17 -0500 (Tue, 04 Feb 2025) EndedAt: 2025-02-04 07:33:34 -0500 (Tue, 04 Feb 2025) EllapsedTime: 1396.9 seconds RetCode: 0 Status: OK CheckDir: tradeSeq.Rcheck Warnings: 0