Package: transcriptogramer Version: 1.28.0 Command: /Library/Frameworks/R.framework/Resources/bin/R CMD build --keep-empty-dirs --no-resave-data transcriptogramer StartedAt: 2025-02-04 09:54:32 -0500 (Tue, 04 Feb 2025) EndedAt: 2025-02-04 10:12:10 -0500 (Tue, 04 Feb 2025) EllapsedTime: 1058.1 seconds RetCode: 0 Status: OK PackageFile: transcriptogramer_1.28.0.tar.gz PackageFileSize: 3.63 MiB