Package: transcriptogramer Version: 1.28.0 Command: /home/biocbuild/bbs-3.20-bioc/R/bin/R CMD build --keep-empty-dirs --no-resave-data --md5 transcriptogramer StartedAt: 2025-02-03 19:40:45 -0500 (Mon, 03 Feb 2025) EndedAt: 2025-02-03 19:52:10 -0500 (Mon, 03 Feb 2025) EllapsedTime: 684.6 seconds RetCode: 0 Status: OK PackageFile: transcriptogramer_1.28.0.tar.gz PackageFileSize: 3.632 MiB