Package: transcriptogramer Version: 1.28.0 Command: F:\biocbuild\bbs-3.20-bioc\R\bin\R.exe CMD INSTALL transcriptogramer StartedAt: 2025-02-03 16:04:40 -0500 (Mon, 03 Feb 2025) EndedAt: 2025-02-03 16:06:38 -0500 (Mon, 03 Feb 2025) EllapsedTime: 118.1 seconds RetCode: 0 Status: OK