Package: transcriptogramer Version: 1.28.0 Command: /home/biocbuild/R/R/bin/R CMD build --keep-empty-dirs --no-resave-data transcriptogramer StartedAt: 2025-02-04 03:36:54 -0000 (Tue, 04 Feb 2025) EndedAt: 2025-02-04 04:01:57 -0000 (Tue, 04 Feb 2025) EllapsedTime: 1502.9 seconds RetCode: 0 Status: OK PackageFile: transcriptogramer_1.28.0.tar.gz PackageFileSize: 3.655 MiB