Package: transite Version: 1.24.0 Command: rm -rf transite.buildbin-libdir && mkdir transite.buildbin-libdir && /Users/biocbuild/BBS/utils/build-universal.sh transite_1.24.0.tar.gz /Library/Frameworks/R.framework/Resources/bin/R transite.buildbin-libdir StartedAt: 2025-02-05 18:09:48 -0500 (Wed, 05 Feb 2025) EndedAt: 2025-02-05 18:10:15 -0500 (Wed, 05 Feb 2025) EllapsedTime: 26.8 seconds RetCode: 0 Status: OK PackageFile: transite_1.24.0.tgz PackageFileSize: 1.007 MiB