Package: transite Version: 1.24.0 Command: /Library/Frameworks/R.framework/Resources/bin/R CMD build --keep-empty-dirs --no-resave-data transite StartedAt: 2025-02-04 09:57:35 -0500 (Tue, 04 Feb 2025) EndedAt: 2025-02-04 09:58:18 -0500 (Tue, 04 Feb 2025) EllapsedTime: 43.2 seconds RetCode: 0 Status: OK PackageFile: transite_1.24.0.tar.gz PackageFileSize: 637.7 KiB