Package: transite Version: 1.24.0 Command: /Library/Frameworks/R.framework/Resources/bin/R CMD build --keep-empty-dirs --no-resave-data transite StartedAt: 2025-02-03 22:59:30 -0500 (Mon, 03 Feb 2025) EndedAt: 2025-02-03 23:00:49 -0500 (Mon, 03 Feb 2025) EllapsedTime: 79.0 seconds RetCode: 0 Status: OK PackageFile: transite_1.24.0.tar.gz PackageFileSize: 637.9 KiB