Package: transite Version: 1.24.0 Command: /Library/Frameworks/R.framework/Resources/bin/R CMD INSTALL transite StartedAt: 2025-02-03 15:31:04 -0500 (Mon, 03 Feb 2025) EndedAt: 2025-02-03 15:31:50 -0500 (Mon, 03 Feb 2025) EllapsedTime: 46.2 seconds RetCode: 0 Status: OK