Package: transite Version: 1.24.0 Command: /home/biocbuild/bbs-3.20-bioc/R/bin/R CMD INSTALL transite StartedAt: 2025-02-03 15:24:18 -0500 (Mon, 03 Feb 2025) EndedAt: 2025-02-03 15:24:38 -0500 (Mon, 03 Feb 2025) EllapsedTime: 20.3 seconds RetCode: 0 Status: OK