Package: transite Version: 1.24.0 Command: rm -rf transite.buildbin-libdir && mkdir transite.buildbin-libdir && F:\biocbuild\bbs-3.20-bioc\R\bin\R.exe CMD INSTALL --build --library=transite.buildbin-libdir transite_1.24.0.tar.gz StartedAt: 2025-02-04 09:42:26 -0500 (Tue, 04 Feb 2025) EndedAt: 2025-02-04 09:43:18 -0500 (Tue, 04 Feb 2025) EllapsedTime: 52.5 seconds RetCode: 0 Status: OK PackageFile: transite_1.24.0.zip PackageFileSize: 1.292 MiB