Package: transite Version: 1.24.0 Command: chmod a+r transite -R && F:\biocbuild\bbs-3.20-bioc\R\bin\R.exe CMD build --keep-empty-dirs --no-resave-data transite StartedAt: 2025-02-03 22:39:45 -0500 (Mon, 03 Feb 2025) EndedAt: 2025-02-03 22:40:42 -0500 (Mon, 03 Feb 2025) EllapsedTime: 56.9 seconds RetCode: 0 Status: OK PackageFile: transite_1.24.0.tar.gz PackageFileSize: 610.8 KiB