Package: transite Version: 1.24.0 Command: F:\biocbuild\bbs-3.20-bioc\R\bin\R.exe CMD INSTALL transite StartedAt: 2025-02-03 16:04:45 -0500 (Mon, 03 Feb 2025) EndedAt: 2025-02-03 16:06:09 -0500 (Mon, 03 Feb 2025) EllapsedTime: 84.0 seconds RetCode: 0 Status: OK