Package: transmogR Version: 1.2.0 Command: chmod a+r transmogR -R && F:\biocbuild\bbs-3.20-bioc\R\bin\R.exe CMD build --keep-empty-dirs --no-resave-data transmogR StartedAt: 2025-02-03 22:40:12 -0500 (Mon, 03 Feb 2025) EndedAt: 2025-02-03 22:41:58 -0500 (Mon, 03 Feb 2025) EllapsedTime: 106.1 seconds RetCode: 0 Status: OK PackageFile: transmogR_1.2.0.tar.gz PackageFileSize: 535.2 KiB