Package: transmogR Version: 1.2.0 Command: /home/biocbuild/R/R/bin/R CMD build --keep-empty-dirs --no-resave-data transmogR StartedAt: 2025-02-04 03:38:15 -0000 (Tue, 04 Feb 2025) EndedAt: 2025-02-04 03:40:04 -0000 (Tue, 04 Feb 2025) EllapsedTime: 109.2 seconds RetCode: 0 Status: OK PackageFile: transmogR_1.2.0.tar.gz PackageFileSize: 568.9 KiB