Package: transomics2cytoscape Version: 1.16.0 Command: /Library/Frameworks/R.framework/Resources/bin/R CMD check --install=check:transomics2cytoscape.install-out.txt --library=/Library/Frameworks/R.framework/Resources/library --no-vignettes --timings transomics2cytoscape_1.16.0.tar.gz StartedAt: 2025-02-05 13:20:32 -0500 (Wed, 05 Feb 2025) EndedAt: 2025-02-05 13:21:10 -0500 (Wed, 05 Feb 2025) EllapsedTime: 38.2 seconds RetCode: 0 Status: OK CheckDir: transomics2cytoscape.Rcheck Warnings: 0