Package: transomics2cytoscape
Version: 1.16.0
Command: /Library/Frameworks/R.framework/Resources/bin/R CMD check --install=check:transomics2cytoscape.install-out.txt --library=/Library/Frameworks/R.framework/Resources/library --no-vignettes --timings transomics2cytoscape_1.16.0.tar.gz
StartedAt: 2024-11-09 15:35:03 -0500 (Sat, 09 Nov 2024)
EndedAt: 2024-11-09 15:39:00 -0500 (Sat, 09 Nov 2024)
EllapsedTime: 236.3 seconds
RetCode: 0
Status: OK
CheckDir: transomics2cytoscape.Rcheck
Warnings: 0