Package: transomics2cytoscape Version: 1.16.0 Command: /Library/Frameworks/R.framework/Resources/bin/R CMD build --keep-empty-dirs --no-resave-data transomics2cytoscape StartedAt: 2025-01-30 23:30:50 -0500 (Thu, 30 Jan 2025) EndedAt: 2025-01-30 23:31:10 -0500 (Thu, 30 Jan 2025) EllapsedTime: 20.6 seconds RetCode: 0 Status: OK PackageFile: transomics2cytoscape_1.16.0.tar.gz PackageFileSize: 11.82 MiB